BEGIN:VCALENDAR
PRODID:-//hacksw/handcal//NONSGML v1.0//EN
VERSION:2.0
METHOD:PUBLISH
BEGIN:VEVENT
DTSTART:20230517T174500Z
DTEND:20230517T191500Z
LOCATION:Grand America Hotel
UID:2384020230517T174500ZMay Luncheon 
DTSTAMP:20260420T133128Z
DESCRIPTION:
SUMMARY:May Luncheon  - Salt Lake Estate Planning Council 
PRIORITY:3
BEGIN:VALARM
TRIGGER:PT18H
ACTION:DISPLAY
DESCRIPTION:Reminder
END:VALARM
END:VEVENT
END:VCALENDAR